BEGIN:VCALENDAR
VERSION:2.0
PRODID:-//Obst- und Gartenbauverein der Gemeinde Egenhofen e.V. - ECPv6.15.20//NONSGML v1.0//EN
CALSCALE:GREGORIAN
METHOD:PUBLISH
X-WR-CALNAME:Obst- und Gartenbauverein der Gemeinde Egenhofen e.V.
X-ORIGINAL-URL:https://ogv-egenhofen.de
X-WR-CALDESC:Veranstaltungen für Obst- und Gartenbauverein der Gemeinde Egenhofen e.V.
REFRESH-INTERVAL;VALUE=DURATION:PT1H
X-Robots-Tag:noindex
X-PUBLISHED-TTL:PT1H
BEGIN:VTIMEZONE
TZID:Europe/Berlin
BEGIN:DAYLIGHT
TZOFFSETFROM:+0100
TZOFFSETTO:+0200
TZNAME:CEST
DTSTART:20250330T010000
END:DAYLIGHT
BEGIN:STANDARD
TZOFFSETFROM:+0200
TZOFFSETTO:+0100
TZNAME:CET
DTSTART:20251026T010000
END:STANDARD
BEGIN:DAYLIGHT
TZOFFSETFROM:+0100
TZOFFSETTO:+0200
TZNAME:CEST
DTSTART:20260329T010000
END:DAYLIGHT
BEGIN:STANDARD
TZOFFSETFROM:+0200
TZOFFSETTO:+0100
TZNAME:CET
DTSTART:20261025T010000
END:STANDARD
BEGIN:DAYLIGHT
TZOFFSETFROM:+0100
TZOFFSETTO:+0200
TZNAME:CEST
DTSTART:20270328T010000
END:DAYLIGHT
BEGIN:STANDARD
TZOFFSETFROM:+0200
TZOFFSETTO:+0100
TZNAME:CET
DTSTART:20271031T010000
END:STANDARD
END:VTIMEZONE
BEGIN:VEVENT
DTSTART;TZID=Europe/Berlin:20260508T150000
DTEND;TZID=Europe/Berlin:20260508T170000
DTSTAMP:20260421T144110
CREATED:20260225T092844Z
LAST-MODIFIED:20260225T092844Z
UID:3335-1778252400-1778259600@ogv-egenhofen.de
SUMMARY:Kinderbasteln für Muttertag/Vatertag 2026
DESCRIPTION:Liebe Kinder (5-10 Jahre)\, \nder Obst- und Gartenbauverein lädt euch wieder herzlich zu einem kreativen Bastelnachmittag ein.\nWir gestalten zusammen mit Euch gemeinsam Geschenke zum Muttertag und Vatertag. \nNähere Informationen über was evtl. mitzubringen ist und einen evtl. kleinen Unkostenbeitrag werden wir Euch noch hier mitteilen. \n \nWir freuen uns auf einen fröhlichen und kreativen Nachmittag mit euch \n  \n  \nBitte meldet euch bitte bis zum 04. Mai 2026 bei bei Uschi Lohmüller 08145/9989618 an\, damit wir ausreichend Material vorbereiten können. \n(Bilder sind nur Beispiele)\n 
URL:https://ogv-egenhofen.de/event/kinderbasteln-fuer-muttertag-vatertag-2026/
LOCATION:Schützenheim Oberweikertshofen\, Ortsstraße 20\, Oberweikertshofen\, 82281\, Germany
CATEGORIES:Kinder
ATTACH;FMTTYPE=image/jpeg:https://ogv-egenhofen.de/wp-content/uploads/heart-2199473_640-2.jpg
END:VEVENT
BEGIN:VEVENT
DTSTART;TZID=Europe/Berlin:20260619T083000
DTEND;TZID=Europe/Berlin:20260619T170000
DTSTAMP:20260421T144110
CREATED:20260228T183711Z
LAST-MODIFIED:20260404T114246Z
UID:3351-1781857800-1781888400@ogv-egenhofen.de
SUMMARY:Fahrt zur Landesgartenschau 2026 in Ellwangen
DESCRIPTION:  \nWir laden alle herzlich ein zum Besuch der Landesgartenschau in Ellwangen/Baden-Württemberg und freuen uns auf eine zahlreiche Teilnahme\, auch Nichtmitglieder sind gerne gesehen. \nMit der Eintrittskarte kann auch der ÖPNV kostenlos genutzt werden. \nTermin: 19. Juni 2026\nAbfahrt: 08.30 Uhr in Aufkirchen\, Bushaltestelle Abzweigung Pfarrstr.\,\ndann im 5-Minutenabstand \n\nUnterschweinbach\, Bushaltestelle Kriegerdenkmal\nPoigern\, Bushaltestelle\nEgenhofen\, Raiffeisenbank\n\nRückfahrt: 17.00 Uhr ab Ellwangen \nFahrpreis: 29 Euro\, kann sich bei entsprechend vielen Mitfahrern ermäßigen. \nEintrittspreis: 22\,90 Euro (Gruppenpreis) \nDie Anmeldung ist ab sofort möglich. Verbindliche Anmeldung jedoch bis spätestens 17. Mai 2026 bei Rosi Meitinger\, Tel. 08134- 841 und Christine Wagner\, Tel 08134-7321.
URL:https://ogv-egenhofen.de/event/ellwangen2026/
LOCATION:Aufkirchen (Bushaltestelle-Ortsmitte)\, Maisacher Strasse\, Aufkirchen\, 82281\, Germany
CATEGORIES:Fahrten
ATTACH;FMTTYPE=image/jpeg:https://ogv-egenhofen.de/wp-content/uploads/2026-Ellwangen-Landesgartenschau-LOGO-schwarz.jpg
END:VEVENT
BEGIN:VEVENT
DTSTART;TZID=Europe/Berlin:20260710T150000
DTEND;TZID=Europe/Berlin:20260710T170000
DTSTAMP:20260421T144111
CREATED:20260228T170716Z
LAST-MODIFIED:20260228T191112Z
UID:3337-1783695600-1783702800@ogv-egenhofen.de
SUMMARY:Führung durch die Gärtnerei Klement in  Unterschweinbach
DESCRIPTION:Im Juli haben wir die Gelegenheit in einer Führung durch die Gärtnerei Klement viel Interessantes über Sorten und Anbau zu erfahren. \n \n  \n  \n  \n  \nDer genaue Termin sowie der Ablauf und Treffpunkt werden noch bekannt gegeben.
URL:https://ogv-egenhofen.de/event/fuehrung-klement2026/
CATEGORIES:Vorträge
ATTACH;FMTTYPE=image/png:https://ogv-egenhofen.de/wp-content/uploads/Gaertnerei-Klement.png
END:VEVENT
BEGIN:VEVENT
DTSTART;TZID=Europe/Berlin:20261128T140000
DTEND;TZID=Europe/Berlin:20261128T170000
DTSTAMP:20260421T144111
CREATED:20260228T190429Z
LAST-MODIFIED:20260228T190429Z
UID:3362-1795874400-1795885200@ogv-egenhofen.de
SUMMARY:Adventsfeier des Obst- und Gartenbauvereins 2026
DESCRIPTION:Wir laden alle Mitglieder wieder herzlich ein\, zu unserer diesjährigen Adventsfeier am Samstag\, 28.11.2026 um 14 Uhr.\nBei Kaffee und Kuchen und einem adventlichen Rahmenprogramm stimmen wir uns gemeinsam auf die „stade Zeit“ ein. \nHinweis: Der genaue Veranstaltungsort wird noch bekannt gegeben \nSpenden für unsere beliebte Tombola werden gerne entgegengenommen\nund können bei der Vorstandschaft abgegeben werden.
URL:https://ogv-egenhofen.de/event/adventsfeier-2026/
LOCATION:Sportgaststätte Oberweikertshofen\, Sportstrasse 1\, Oberweikertshofen\, 82281\, Deutschland
CATEGORIES:Versammlungen
ATTACH;FMTTYPE=image/jpeg:https://ogv-egenhofen.de/wp-content/uploads/emotions-4637323_640.jpg
END:VEVENT
BEGIN:VEVENT
DTSTART;TZID=Europe/Berlin:20261211T140000
DTEND;TZID=Europe/Berlin:20261211T183000
DTSTAMP:20260421T144111
CREATED:20260228T190141Z
LAST-MODIFIED:20260228T190200Z
UID:3363-1796997600-1797013800@ogv-egenhofen.de
SUMMARY:Fahrt zum Christkindlmarkt 2026
DESCRIPTION:Der Obst- und Gartenbauverein der Gemeinde Egenhofen lädt alle Gemeindemitglieder zur Fahrt zu einem Christkindlmarkt ein. \nDer genaue Termin\, der Ablauf sowie die Kosten werden wir im Laufe des Spätsommers 2026 hier veröffentlichen.
URL:https://ogv-egenhofen.de/event/fahrt-zu-einem-christkindlmarkt2026/
CATEGORIES:Fahrten
ATTACH;FMTTYPE=image/jpeg:https://ogv-egenhofen.de/wp-content/uploads/christmas-market-4705886_640.jpg
END:VEVENT
END:VCALENDAR